BEGIN:VCALENDAR
VERSION:2.0
PRODID:-//CheerPrep//AASCF_New//EN
BEGIN:VEVENT
UID:20250120T184242-AASCF_New@cheerprep
DTSTAMP:20250507T184242Z
DTSTART;VALUE=DATE:20250120
DTEND;VALUE=DATE:20250121
SUMMARY:Team Tryouts
END:VEVENT
BEGIN:VEVENT
UID:20250201T184242-AASCF_New@cheerprep
DTSTAMP:20250507T184242Z
DTSTART;VALUE=DATE:20250201
DTEND;VALUE=DATE:20250202
SUMMARY:Training Kickoff
END:VEVENT
BEGIN:VEVENT
UID:20250601T184242-AASCF_New@cheerprep
DTSTAMP:20250507T184242Z
DTSTART;VALUE=DATE:20250601
DTEND;VALUE=DATE:20250602
SUMMARY:Choreography Camp
END:VEVENT
BEGIN:VEVENT
UID:20250901T184242-AASCF_New@cheerprep
DTSTAMP:20250507T184242Z
DTSTART;VALUE=DATE:20250901
DTEND;VALUE=DATE:20250902
SUMMARY:Register for Nationals
END:VEVENT
BEGIN:VEVENT
UID:20250915T184242-AASCF_New@cheerprep
DTSTAMP:20250507T184242Z
DTSTART;VALUE=DATE:20250915
DTEND;VALUE=DATE:20250916
SUMMARY:State Championship
END:VEVENT
BEGIN:VEVENT
UID:20251001T184242-AASCF_New@cheerprep
DTSTAMP:20250507T184242Z
DTSTART;VALUE=DATE:20251001
DTEND;VALUE=DATE:20251002
SUMMARY:Routine Upgrades Finalized
END:VEVENT
BEGIN:VEVENT
UID:20251120T184242-AASCF_New@cheerprep
DTSTAMP:20250507T184242Z
DTSTART;VALUE=DATE:20251120
DTEND;VALUE=DATE:20251125
SUMMARY:AASCF Nationals 2025
DESCRIPTION:Melbourne, Australia
END:VEVENT
END:VCALENDAR