BEGIN:VCALENDAR
VERSION:2.0
PRODID:-//CheerPrep//ASWC_Adv//EN
BEGIN:VEVENT
UID:20250601T184242-ASWC_Adv@cheerprep
DTSTAMP:20250507T184242Z
DTSTART;VALUE=DATE:20250601
DTEND;VALUE=DATE:20250602
SUMMARY:Season Planning Meeting
END:VEVENT
BEGIN:VEVENT
UID:20250715T184242-ASWC_Adv@cheerprep
DTSTAMP:20250507T184242Z
DTSTART;VALUE=DATE:20250715
DTEND;VALUE=DATE:20250716
SUMMARY:Summer Skills Camp
END:VEVENT
BEGIN:VEVENT
UID:20250810T184242-ASWC_Adv@cheerprep
DTSTAMP:20250507T184242Z
DTSTART;VALUE=DATE:20250810
DTEND;VALUE=DATE:20250811
SUMMARY:Choreography Camp
END:VEVENT
BEGIN:VEVENT
UID:20251120T184242-ASWC_Adv@cheerprep
DTSTAMP:20250507T184242Z
DTSTART;VALUE=DATE:20251120
DTEND;VALUE=DATE:20251121
SUMMARY:Early Bid Competition
END:VEVENT
BEGIN:VEVENT
UID:20251121T184242-ASWC_Adv@cheerprep
DTSTAMP:20250507T184242Z
DTSTART;VALUE=DATE:20251121
DTEND;VALUE=DATE:20251122
SUMMARY:Paid Bid Secured
END:VEVENT
BEGIN:VEVENT
UID:20260110T184242-ASWC_Adv@cheerprep
DTSTAMP:20250507T184242Z
DTSTART;VALUE=DATE:20260110
DTEND;VALUE=DATE:20260111
SUMMARY:Routine Cleaning Phase Begins
END:VEVENT
BEGIN:VEVENT
UID:20260416T184242-ASWC_Adv@cheerprep
DTSTAMP:20250507T184242Z
DTSTART;VALUE=DATE:20260416
DTEND;VALUE=DATE:20260420
SUMMARY:Allstar World Championship 2026
END:VEVENT
END:VCALENDAR