BEGIN:VCALENDAR
VERSION:2.0
PRODID:-//CheerPrep//ASWC_New//EN
BEGIN:VEVENT
UID:20250520T184242-ASWC_New@cheerprep
DTSTAMP:20250507T184242Z
DTSTART;VALUE=DATE:20250520
DTEND;VALUE=DATE:20250521
SUMMARY:All-Star Tryouts
END:VEVENT
BEGIN:VEVENT
UID:20250605T184242-ASWC_New@cheerprep
DTSTAMP:20250507T184242Z
DTSTART;VALUE=DATE:20250605
DTEND;VALUE=DATE:20250606
SUMMARY:Season Training Kickoff
END:VEVENT
BEGIN:VEVENT
UID:20250901T184242-ASWC_New@cheerprep
DTSTAMP:20250507T184242Z
DTSTART;VALUE=DATE:20250901
DTEND;VALUE=DATE:20250902
SUMMARY:Choreography Completed
END:VEVENT
BEGIN:VEVENT
UID:20251115T184242-ASWC_New@cheerprep
DTSTAMP:20250507T184242Z
DTSTART;VALUE=DATE:20251115
DTEND;VALUE=DATE:20251116
SUMMARY:First Competition (Local)
END:VEVENT
BEGIN:VEVENT
UID:20260115T184242-ASWC_New@cheerprep
DTSTAMP:20250507T184242Z
DTSTART;VALUE=DATE:20260115
DTEND;VALUE=DATE:20260116
SUMMARY:Open Series Bid Event
END:VEVENT
BEGIN:VEVENT
UID:20260116T184242-ASWC_New@cheerprep
DTSTAMP:20250507T184242Z
DTSTART;VALUE=DATE:20260116
DTEND;VALUE=DATE:20260117
SUMMARY:Bid Received for ASWC
END:VEVENT
BEGIN:VEVENT
UID:20260228T184242-ASWC_New@cheerprep
DTSTAMP:20250507T184242Z
DTSTART;VALUE=DATE:20260228
DTEND;VALUE=DATE:20260301
SUMMARY:Travel Arrangements Finalized
END:VEVENT
BEGIN:VEVENT
UID:20260416T184242-ASWC_New@cheerprep
DTSTAMP:20250507T184242Z
DTSTART;VALUE=DATE:20260416
DTEND;VALUE=DATE:20260420
SUMMARY:Allstar World Championship 2026
DESCRIPTION:Orlando, FL
END:VEVENT
END:VCALENDAR