BEGIN:VCALENDAR
VERSION:2.0
PRODID:-//CheerPrep//FC_Adv//EN
BEGIN:VEVENT
UID:20240801T184242-FC_Adv@cheerprep
DTSTAMP:20250507T184242Z
DTSTART;VALUE=DATE:20240801
DTEND;VALUE=DATE:20240802
SUMMARY:Off-Season Training Begins
END:VEVENT
BEGIN:VEVENT
UID:20240916T184242-FC_Adv@cheerprep
DTSTAMP:20250507T184242Z
DTSTART;VALUE=DATE:20240916
DTEND;VALUE=DATE:20240917
SUMMARY:Register for FC Internationals
END:VEVENT
BEGIN:VEVENT
UID:20241015T184242-FC_Adv@cheerprep
DTSTAMP:20250507T184242Z
DTSTART;VALUE=DATE:20241015
DTEND;VALUE=DATE:20241016
SUMMARY:Routine Finalized
END:VEVENT
BEGIN:VEVENT
UID:20250120T184242-FC_Adv@cheerprep
DTSTAMP:20250507T184242Z
DTSTART;VALUE=DATE:20250120
DTEND;VALUE=DATE:20250121
SUMMARY:Winter Competition Performance
END:VEVENT
BEGIN:VEVENT
UID:20250401T184242-FC_Adv@cheerprep
DTSTAMP:20250507T184242Z
DTSTART;VALUE=DATE:20250401
DTEND;VALUE=DATE:20250402
SUMMARY:Intense Stamina Training Starts
END:VEVENT
BEGIN:VEVENT
UID:20250515T184242-FC_Adv@cheerprep
DTSTAMP:20250507T184242Z
DTSTART;VALUE=DATE:20250515
DTEND;VALUE=DATE:20250516
SUMMARY:Final Routine Polish Deadline
END:VEVENT
BEGIN:VEVENT
UID:20250620T184242-FC_Adv@cheerprep
DTSTAMP:20250507T184242Z
DTSTART;VALUE=DATE:20250620
DTEND;VALUE=DATE:20250623
SUMMARY:Future Cheer Internationals 2025
END:VEVENT
END:VCALENDAR