BEGIN:VCALENDAR
VERSION:2.0
PRODID:-//CheerPrep//Worlds_Adv//EN
BEGIN:VEVENT
UID:20250530T184242-Worlds_Adv@cheerprep
DTSTAMP:20250507T184242Z
DTSTART;VALUE=DATE:20250530
DTEND;VALUE=DATE:20250531
SUMMARY:New Season Tryouts
END:VEVENT
BEGIN:VEVENT
UID:20250701T184242-Worlds_Adv@cheerprep
DTSTAMP:20250507T184242Z
DTSTART;VALUE=DATE:20250701
DTEND;VALUE=DATE:20250702
SUMMARY:Elite Skills Upgrade Camp
END:VEVENT
BEGIN:VEVENT
UID:20250820T184242-Worlds_Adv@cheerprep
DTSTAMP:20250507T184242Z
DTSTART;VALUE=DATE:20250820
DTEND;VALUE=DATE:20250821
SUMMARY:Routine Choreography Finalized
END:VEVENT
BEGIN:VEVENT
UID:20251015T184242-Worlds_Adv@cheerprep
DTSTAMP:20250507T184242Z
DTSTART;VALUE=DATE:20251015
DTEND;VALUE=DATE:20251016
SUMMARY:First Routine Showcase
END:VEVENT
BEGIN:VEVENT
UID:20251210T184242-Worlds_Adv@cheerprep
DTSTAMP:20250507T184242Z
DTSTART;VALUE=DATE:20251210
DTEND;VALUE=DATE:20251211
SUMMARY:Major Bid Competition
END:VEVENT
BEGIN:VEVENT
UID:20251212T184242-Worlds_Adv@cheerprep
DTSTAMP:20250507T184242Z
DTSTART;VALUE=DATE:20251212
DTEND;VALUE=DATE:20251213
SUMMARY:Paid Bid Received
END:VEVENT
BEGIN:VEVENT
UID:20260220T184242-Worlds_Adv@cheerprep
DTSTAMP:20250507T184242Z
DTSTART;VALUE=DATE:20260220
DTEND;VALUE=DATE:20260221
SUMMARY:Register for Worlds
END:VEVENT
BEGIN:VEVENT
UID:20260410T184242-Worlds_Adv@cheerprep
DTSTAMP:20250507T184242Z
DTSTART;VALUE=DATE:20260410
DTEND;VALUE=DATE:20260411
SUMMARY:Send-off Performance Showcase
END:VEVENT
BEGIN:VEVENT
UID:20260424T184242-Worlds_Adv@cheerprep
DTSTAMP:20250507T184242Z
DTSTART;VALUE=DATE:20260424
DTEND;VALUE=DATE:20260428
SUMMARY:The Cheerleading Worlds 2026
END:VEVENT
END:VCALENDAR